Package: PepSetTest Version: 1.2.0 Command: /home/biocbuild/R/R/bin/R CMD build --keep-empty-dirs --no-resave-data PepSetTest StartedAt: 2025-10-14 03:28:55 -0000 (Tue, 14 Oct 2025) EndedAt: 2025-10-14 03:29:24 -0000 (Tue, 14 Oct 2025) EllapsedTime: 29.0 seconds RetCode: 0 Status: OK PackageFile: PepSetTest_1.2.0.tar.gz PackageFileSize: 275.1 KiB