Package: PepSetTest Version: 1.2.0 Command: /Library/Frameworks/R.framework/Resources/bin/R CMD build --keep-empty-dirs --no-resave-data PepSetTest StartedAt: 2025-10-14 06:27:40 -0400 (Tue, 14 Oct 2025) EndedAt: 2025-10-14 06:28:11 -0400 (Tue, 14 Oct 2025) EllapsedTime: 30.6 seconds RetCode: 0 Status: OK PackageFile: PepSetTest_1.2.0.tar.gz PackageFileSize: 248.5 KiB