Package: PathoStat Version: 1.34.0 Command: /home/biocbuild/bbs-3.21-bioc/R/bin/R CMD INSTALL PathoStat StartedAt: 2025-10-15 15:20:54 -0400 (Wed, 15 Oct 2025) EndedAt: 2025-10-15 15:21:30 -0400 (Wed, 15 Oct 2025) EllapsedTime: 35.6 seconds RetCode: 0 Status: OK