Package: PathoStat Version: 1.34.0 Command: /Library/Frameworks/R.framework/Resources/bin/R CMD INSTALL PathoStat StartedAt: 2025-10-13 15:39:44 -0400 (Mon, 13 Oct 2025) EndedAt: 2025-10-13 15:41:02 -0400 (Mon, 13 Oct 2025) EllapsedTime: 77.3 seconds RetCode: 0 Status: OK