Package: PathoStat Version: 1.34.0 Command: /home/biocbuild/R/R/bin/R CMD INSTALL PathoStat StartedAt: 2025-10-13 20:33:12 -0000 (Mon, 13 Oct 2025) EndedAt: 2025-10-13 20:34:05 -0000 (Mon, 13 Oct 2025) EllapsedTime: 52.6 seconds RetCode: 0 Status: OK