Package: PathoStat Version: 1.34.0 Command: rm -rf PathoStat.buildbin-libdir && mkdir PathoStat.buildbin-libdir && /Users/biocbuild/BBS/utils/build-universal.sh PathoStat_1.34.0.tar.gz /Library/Frameworks/R.framework/Resources/bin/R PathoStat.buildbin-libdir StartedAt: 2025-10-15 19:44:37 -0400 (Wed, 15 Oct 2025) EndedAt: 2025-10-15 19:45:23 -0400 (Wed, 15 Oct 2025) EllapsedTime: 46.7 seconds RetCode: 0 Status: OK PackageFile: PathoStat_1.34.0.tgz PackageFileSize: 1.047 MiB