Package: PathNet Version: 1.48.0 Command: /home/biocbuild/bbs-3.21-bioc/R/bin/R CMD INSTALL PathNet StartedAt: 2025-10-15 15:01:37 -0400 (Wed, 15 Oct 2025) EndedAt: 2025-10-15 15:01:43 -0400 (Wed, 15 Oct 2025) EllapsedTime: 5.7 seconds RetCode: 0 Status: OK