Package: PathNet Version: 1.48.0 Command: /Library/Frameworks/R.framework/Resources/bin/R CMD build --keep-empty-dirs --no-resave-data PathNet StartedAt: 2025-10-13 21:25:47 -0400 (Mon, 13 Oct 2025) EndedAt: 2025-10-13 21:27:54 -0400 (Mon, 13 Oct 2025) EllapsedTime: 127.1 seconds RetCode: 0 Status: OK PackageFile: PathNet_1.48.0.tar.gz PackageFileSize: 823.1 KiB