Package: PathNet Version: 1.48.0 Command: rm -rf PathNet.buildbin-libdir && mkdir PathNet.buildbin-libdir && /Users/biocbuild/BBS/utils/build-universal.sh PathNet_1.48.0.tar.gz /Library/Frameworks/R.framework/Resources/bin/R PathNet.buildbin-libdir StartedAt: 2025-10-14 14:21:06 -0400 (Tue, 14 Oct 2025) EndedAt: 2025-10-14 14:21:14 -0400 (Tue, 14 Oct 2025) EllapsedTime: 7.4 seconds RetCode: 0 Status: OK PackageFile: PathNet_1.48.0.tgz PackageFileSize: 328.4 KiB