Package: PathNet Version: 1.48.0 Command: /home/biocbuild/R/R/bin/R CMD INSTALL PathNet StartedAt: 2025-10-13 20:12:20 -0000 (Mon, 13 Oct 2025) EndedAt: 2025-10-13 20:12:30 -0000 (Mon, 13 Oct 2025) EllapsedTime: 10.3 seconds RetCode: 0 Status: OK