Package: PathNet Version: 1.48.0 Command: /home/biocbuild/R/R/bin/R CMD build --keep-empty-dirs --no-resave-data PathNet StartedAt: 2025-10-14 03:25:02 -0000 (Tue, 14 Oct 2025) EndedAt: 2025-10-14 03:26:16 -0000 (Tue, 14 Oct 2025) EllapsedTime: 74.1 seconds RetCode: 0 Status: OK PackageFile: PathNet_1.48.0.tar.gz PackageFileSize: 813.2 KiB