Package: PathNet Version: 1.48.0 Command: /Library/Frameworks/R.framework/Resources/bin/R CMD build --keep-empty-dirs --no-resave-data PathNet StartedAt: 2025-10-14 06:20:32 -0400 (Tue, 14 Oct 2025) EndedAt: 2025-10-14 06:21:45 -0400 (Tue, 14 Oct 2025) EllapsedTime: 73.8 seconds RetCode: 0 Status: OK PackageFile: PathNet_1.48.0.tar.gz PackageFileSize: 823.9 KiB