Package: Path2PPI Version: 1.38.0 Command: /home/biocbuild/bbs-3.21-bioc/R/bin/R CMD INSTALL Path2PPI StartedAt: 2025-10-15 15:06:11 -0400 (Wed, 15 Oct 2025) EndedAt: 2025-10-15 15:06:39 -0400 (Wed, 15 Oct 2025) EllapsedTime: 28.1 seconds RetCode: 0 Status: OK