Package: Path2PPI Version: 1.38.0 Command: rm -rf Path2PPI.buildbin-libdir && mkdir Path2PPI.buildbin-libdir && /Users/biocbuild/BBS/utils/build-universal.sh Path2PPI_1.38.0.tar.gz /Library/Frameworks/R.framework/Resources/bin/R Path2PPI.buildbin-libdir StartedAt: 2025-10-14 14:20:55 -0400 (Tue, 14 Oct 2025) EndedAt: 2025-10-14 14:21:14 -0400 (Tue, 14 Oct 2025) EllapsedTime: 19.1 seconds RetCode: 0 Status: OK PackageFile: Path2PPI_1.38.0.tgz PackageFileSize: 1.368 MiB