Package: Path2PPI Version: 1.38.0 Command: /home/biocbuild/R/R/bin/R CMD INSTALL Path2PPI StartedAt: 2025-10-13 20:17:29 -0000 (Mon, 13 Oct 2025) EndedAt: 2025-10-13 20:18:20 -0000 (Mon, 13 Oct 2025) EllapsedTime: 50.6 seconds RetCode: 0 Status: OK