Package: Path2PPI Version: 1.38.0 Command: /Library/Frameworks/R.framework/Resources/bin/R CMD INSTALL Path2PPI StartedAt: 2025-10-13 15:18:51 -0400 (Mon, 13 Oct 2025) EndedAt: 2025-10-13 15:19:13 -0400 (Mon, 13 Oct 2025) EllapsedTime: 22.5 seconds RetCode: 0 Status: OK