Package: Path2PPI Version: 1.38.0 Command: rm -rf Path2PPI.buildbin-libdir && mkdir Path2PPI.buildbin-libdir && /Users/biocbuild/BBS/utils/build-universal.sh Path2PPI_1.38.0.tar.gz /Library/Frameworks/R.framework/Resources/bin/R Path2PPI.buildbin-libdir StartedAt: 2025-10-15 19:44:28 -0400 (Wed, 15 Oct 2025) EndedAt: 2025-10-15 19:44:37 -0400 (Wed, 15 Oct 2025) EllapsedTime: 8.1 seconds RetCode: 0 Status: OK PackageFile: Path2PPI_1.38.0.tgz PackageFileSize: 1.371 MiB