Package: PWMEnrich Version: 4.44.0 Command: /home/biocbuild/R/R/bin/R CMD INSTALL PWMEnrich StartedAt: 2025-10-13 20:29:40 -0000 (Mon, 13 Oct 2025) EndedAt: 2025-10-13 20:29:59 -0000 (Mon, 13 Oct 2025) EllapsedTime: 18.8 seconds RetCode: 0 Status: OK