Package: PSMatch Version: 1.12.0 Command: /home/biocbuild/bbs-3.21-bioc/R/bin/R CMD build --keep-empty-dirs --no-resave-data PSMatch StartedAt: 2025-10-15 19:15:36 -0400 (Wed, 15 Oct 2025) EndedAt: 2025-10-15 19:17:09 -0400 (Wed, 15 Oct 2025) EllapsedTime: 92.1 seconds RetCode: 0 Status: OK PackageFile: PSMatch_1.12.0.tar.gz PackageFileSize: 1.487 MiB