Package: PSMatch Version: 1.12.0 Command: /home/biocbuild/R/R/bin/R CMD INSTALL PSMatch StartedAt: 2025-10-13 20:50:42 -0000 (Mon, 13 Oct 2025) EndedAt: 2025-10-13 20:51:26 -0000 (Mon, 13 Oct 2025) EllapsedTime: 44.3 seconds RetCode: 0 Status: OK