Package: PROcess Version: 1.84.0 Maintainer: Xiaochun Li MaintainerEmail: xiaochun at jimmy.harvard.edu git_url: https://git.bioconductor.org/packages/PROcess git_branch: RELEASE_3_21 git_last_commit: 73a3e7a git_last_commit_date: 2025-04-15 09:17:46 -0400 (Tue, 15 Apr 2025)