Package: PROPS Version: 1.30.0 Command: /home/biocbuild/R/R/bin/R CMD INSTALL PROPS StartedAt: 2025-10-13 20:44:04 -0000 (Mon, 13 Oct 2025) EndedAt: 2025-10-13 20:44:31 -0000 (Mon, 13 Oct 2025) EllapsedTime: 26.9 seconds RetCode: 0 Status: OK