Package: PROPS Version: 1.30.0 Command: /home/biocbuild/R/R/bin/R CMD build --keep-empty-dirs --no-resave-data PROPS StartedAt: 2025-10-14 03:41:15 -0000 (Tue, 14 Oct 2025) EndedAt: 2025-10-14 03:45:14 -0000 (Tue, 14 Oct 2025) EllapsedTime: 239.1 seconds RetCode: 0 Status: OK PackageFile: PROPS_1.30.0.tar.gz PackageFileSize: 3.586 MiB