Package: PROPER Version: 1.40.0 Command: /home/biocbuild/R/R/bin/R CMD INSTALL PROPER StartedAt: 2025-10-13 20:14:25 -0000 (Mon, 13 Oct 2025) EndedAt: 2025-10-13 20:14:47 -0000 (Mon, 13 Oct 2025) EllapsedTime: 22.1 seconds RetCode: 0 Status: OK