Package: PROMISE Version: 1.60.0 Command: /home/biocbuild/R/R/bin/R CMD INSTALL PROMISE StartedAt: 2025-10-13 20:44:34 -0000 (Mon, 13 Oct 2025) EndedAt: 2025-10-13 20:44:54 -0000 (Mon, 13 Oct 2025) EllapsedTime: 19.9 seconds RetCode: 0 Status: OK