Package: PREDA Version: 1.54.0 Command: /Library/Frameworks/R.framework/Resources/bin/R CMD INSTALL PREDA StartedAt: 2025-10-13 15:50:05 -0400 (Mon, 13 Oct 2025) EndedAt: 2025-10-13 15:50:29 -0400 (Mon, 13 Oct 2025) EllapsedTime: 23.3 seconds RetCode: 0 Status: OK