Package: PPInfer Version: 1.34.0 Command: /home/biocbuild/bbs-3.21-bioc/R/bin/R CMD INSTALL PPInfer StartedAt: 2025-10-15 15:31:01 -0400 (Wed, 15 Oct 2025) EndedAt: 2025-10-15 15:31:25 -0400 (Wed, 15 Oct 2025) EllapsedTime: 23.7 seconds RetCode: 0 Status: OK