Package: POWSC Version: 1.16.0 Command: /home/biocbuild/R/R/bin/R CMD INSTALL POWSC StartedAt: 2025-10-13 20:34:48 -0000 (Mon, 13 Oct 2025) EndedAt: 2025-10-13 20:35:28 -0000 (Mon, 13 Oct 2025) EllapsedTime: 39.6 seconds RetCode: 0 Status: OK