Package: PLSDAbatch Version: 1.4.0 Command: rm -rf PLSDAbatch.buildbin-libdir && mkdir PLSDAbatch.buildbin-libdir && /Users/biocbuild/BBS/utils/build-universal.sh PLSDAbatch_1.4.0.tar.gz /Library/Frameworks/R.framework/Resources/bin/R PLSDAbatch.buildbin-libdir StartedAt: 2025-04-22 01:00:43 -0400 (Tue, 22 Apr 2025) EndedAt: 2025-04-22 01:01:30 -0400 (Tue, 22 Apr 2025) EllapsedTime: 47.3 seconds RetCode: 0 Status: OK PackageFile: PLSDAbatch_1.4.0.tgz PackageFileSize: 1.651 MiB