Package: PIUMA Version: 1.4.0 Command: /Library/Frameworks/R.framework/Resources/bin/R CMD build --keep-empty-dirs --no-resave-data PIUMA StartedAt: 2025-10-13 21:34:20 -0400 (Mon, 13 Oct 2025) EndedAt: 2025-10-13 21:37:42 -0400 (Mon, 13 Oct 2025) EllapsedTime: 201.0 seconds RetCode: 1 Status: ERROR PackageFile: None PackageFileSize: NA