Package: PIUMA Version: 1.4.0 Command: rm -rf PIUMA.buildbin-libdir && mkdir PIUMA.buildbin-libdir && /Users/biocbuild/BBS/utils/build-universal.sh PIUMA_1.4.0.tar.gz /Library/Frameworks/R.framework/Resources/bin/R PIUMA.buildbin-libdir StartedAt: 2025-10-10 14:23:37 -0400 (Fri, 10 Oct 2025) EndedAt: 2025-10-10 14:25:02 -0400 (Fri, 10 Oct 2025) EllapsedTime: 85.0 seconds RetCode: 0 Status: OK PackageFile: PIUMA_1.4.0.tgz PackageFileSize: 3.335 MiB