Package: PICS Version: 2.52.0 Command: /home/biocbuild/bbs-3.21-bioc/R/bin/R CMD INSTALL PICS StartedAt: 2025-10-15 15:26:41 -0400 (Wed, 15 Oct 2025) EndedAt: 2025-10-15 15:26:44 -0400 (Wed, 15 Oct 2025) EllapsedTime: 3.3 seconds RetCode: 1 Status: ERROR