Package: PICS Version: 2.52.0 Command: /home/biocbuild/bbs-3.21-bioc/R/bin/R CMD build --keep-empty-dirs --no-resave-data PICS StartedAt: 2025-10-15 19:09:07 -0400 (Wed, 15 Oct 2025) EndedAt: 2025-10-15 19:09:10 -0400 (Wed, 15 Oct 2025) EllapsedTime: 3.0 seconds RetCode: 1 Status: ERROR PackageFile: None PackageFileSize: NA