Package: PICS Version: 2.52.0 Command: /home/biocbuild/R/R/bin/R CMD INSTALL PICS StartedAt: 2025-10-13 20:41:52 -0000 (Mon, 13 Oct 2025) EndedAt: 2025-10-13 20:41:56 -0000 (Mon, 13 Oct 2025) EllapsedTime: 4.3 seconds RetCode: 1 Status: ERROR