Package: PICS Version: 2.52.0 Command: /Library/Frameworks/R.framework/Resources/bin/R CMD INSTALL PICS StartedAt: 2025-10-13 16:38:44 -0400 (Mon, 13 Oct 2025) EndedAt: 2025-10-13 16:38:49 -0400 (Mon, 13 Oct 2025) EllapsedTime: 5.1 seconds RetCode: 1 Status: ERROR