Package: PICB Version: 1.0.0 Command: /home/biocbuild/R/R/bin/R CMD INSTALL PICB StartedAt: 2025-10-13 20:41:48 -0000 (Mon, 13 Oct 2025) EndedAt: 2025-10-13 20:41:51 -0000 (Mon, 13 Oct 2025) EllapsedTime: 3.3 seconds RetCode: 0 Status: OK