Package: PICB Version: 1.0.0 Command: /home/biocbuild/R/R/bin/R CMD build --keep-empty-dirs --no-resave-data PICB StartedAt: 2025-10-14 03:32:17 -0000 (Tue, 14 Oct 2025) EndedAt: 2025-10-14 03:34:50 -0000 (Tue, 14 Oct 2025) EllapsedTime: 153.1 seconds RetCode: 0 Status: OK PackageFile: PICB_1.0.0.tar.gz PackageFileSize: 4.729 MiB