Package: PCAtools Version: 2.20.0 Command: /Library/Frameworks/R.framework/Resources/bin/R CMD INSTALL PCAtools StartedAt: 2025-10-13 16:39:21 -0400 (Mon, 13 Oct 2025) EndedAt: 2025-10-13 16:40:33 -0400 (Mon, 13 Oct 2025) EllapsedTime: 71.9 seconds RetCode: 0 Status: OK