Package: PCAtools Version: 2.20.0 Command: /Library/Frameworks/R.framework/Resources/bin/R CMD build --keep-empty-dirs --no-resave-data PCAtools StartedAt: 2025-10-13 21:27:52 -0400 (Mon, 13 Oct 2025) EndedAt: 2025-10-13 21:35:36 -0400 (Mon, 13 Oct 2025) EllapsedTime: 463.8 seconds RetCode: 0 Status: OK PackageFile: PCAtools_2.20.0.tar.gz PackageFileSize: 11.3 MiB