Package: PCAtools Version: 2.20.0 Command: rm -rf PCAtools.buildbin-libdir && mkdir PCAtools.buildbin-libdir && /Users/biocbuild/BBS/utils/build-universal.sh PCAtools_2.20.0.tar.gz /Library/Frameworks/R.framework/Resources/bin/R PCAtools.buildbin-libdir StartedAt: 2025-10-14 14:21:21 -0400 (Tue, 14 Oct 2025) EndedAt: 2025-10-14 14:23:05 -0400 (Tue, 14 Oct 2025) EllapsedTime: 103.8 seconds RetCode: 0 Status: OK PackageFile: PCAtools_2.20.0.tgz PackageFileSize: 6.139 MiB