Package: PCAtools Version: 2.20.0 Command: /Library/Frameworks/R.framework/Resources/bin/R CMD build --keep-empty-dirs --no-resave-data PCAtools StartedAt: 2025-10-14 06:23:56 -0400 (Tue, 14 Oct 2025) EndedAt: 2025-10-14 06:28:14 -0400 (Tue, 14 Oct 2025) EllapsedTime: 257.6 seconds RetCode: 0 Status: OK PackageFile: PCAtools_2.20.0.tar.gz PackageFileSize: 11.31 MiB