Package: PCAN Version: 1.36.0 Command: /home/biocbuild/R/R/bin/R CMD build --keep-empty-dirs --no-resave-data PCAN StartedAt: 2025-10-14 03:26:28 -0000 (Tue, 14 Oct 2025) EndedAt: 2025-10-14 03:28:03 -0000 (Tue, 14 Oct 2025) EllapsedTime: 94.1 seconds RetCode: 0 Status: OK PackageFile: PCAN_1.36.0.tar.gz PackageFileSize: 2.511 MiB