Package: PAA Version: 1.42.0 Command: /home/biocbuild/R/R/bin/R CMD build --keep-empty-dirs --no-resave-data PAA StartedAt: 2025-10-14 03:18:29 -0000 (Tue, 14 Oct 2025) EndedAt: 2025-10-14 03:24:33 -0000 (Tue, 14 Oct 2025) EllapsedTime: 364.5 seconds RetCode: 0 Status: OK PackageFile: PAA_1.42.0.tar.gz PackageFileSize: 3.973 MiB