Package: OutSplice Version: 1.8.0 Command: /home/biocbuild/bbs-3.21-bioc/R/bin/R CMD INSTALL OutSplice StartedAt: 2025-10-15 15:58:26 -0400 (Wed, 15 Oct 2025) EndedAt: 2025-10-15 15:59:00 -0400 (Wed, 15 Oct 2025) EllapsedTime: 34.5 seconds RetCode: 0 Status: OK