Package: OutSplice Version: 1.8.0 Command: /Library/Frameworks/R.framework/Resources/bin/R CMD INSTALL OutSplice StartedAt: 2025-10-13 18:30:33 -0400 (Mon, 13 Oct 2025) EndedAt: 2025-10-13 18:31:15 -0400 (Mon, 13 Oct 2025) EllapsedTime: 41.4 seconds RetCode: 0 Status: OK