Package: Oscope Version: 1.38.0 Command: /home/biocbuild/R/R/bin/R CMD INSTALL Oscope StartedAt: 2025-10-13 20:22:38 -0000 (Mon, 13 Oct 2025) EndedAt: 2025-10-13 20:22:51 -0000 (Mon, 13 Oct 2025) EllapsedTime: 13.0 seconds RetCode: 0 Status: OK