Package: Organism.dplyr Version: 1.36.0 Command: /home/biocbuild/bbs-3.21-bioc/R/bin/R CMD build --keep-empty-dirs --no-resave-data Organism.dplyr StartedAt: 2025-10-15 18:58:43 -0400 (Wed, 15 Oct 2025) EndedAt: 2025-10-15 19:00:18 -0400 (Wed, 15 Oct 2025) EllapsedTime: 95.1 seconds RetCode: 0 Status: OK PackageFile: Organism.dplyr_1.36.0.tar.gz PackageFileSize: 578.2 KiB