Package: Organism.dplyr Version: 1.36.0 Command: rm -rf Organism.dplyr.buildbin-libdir && mkdir Organism.dplyr.buildbin-libdir && /Users/biocbuild/BBS/utils/build-universal.sh Organism.dplyr_1.36.0.tar.gz /Library/Frameworks/R.framework/Resources/bin/R Organism.dplyr.buildbin-libdir StartedAt: 2025-10-15 19:42:07 -0400 (Wed, 15 Oct 2025) EndedAt: 2025-10-15 19:42:57 -0400 (Wed, 15 Oct 2025) EllapsedTime: 49.6 seconds RetCode: 0 Status: OK PackageFile: Organism.dplyr_1.36.0.tgz PackageFileSize: 892.3 KiB