Package: OpenStats Version: 1.20.0 Command: /home/biocbuild/bbs-3.21-bioc/R/bin/R CMD build --keep-empty-dirs --no-resave-data OpenStats StartedAt: 2025-10-15 18:57:46 -0400 (Wed, 15 Oct 2025) EndedAt: 2025-10-15 18:58:12 -0400 (Wed, 15 Oct 2025) EllapsedTime: 26.0 seconds RetCode: 0 Status: OK PackageFile: OpenStats_1.20.0.tar.gz PackageFileSize: 576.2 KiB