Package: OpenStats Version: 1.20.0 Command: /home/biocbuild/R/R/bin/R CMD INSTALL OpenStats StartedAt: 2025-10-13 20:20:54 -0000 (Mon, 13 Oct 2025) EndedAt: 2025-10-13 20:21:36 -0000 (Mon, 13 Oct 2025) EllapsedTime: 41.5 seconds RetCode: 0 Status: OK